BEGIN:VCALENDAR
VERSION:2.0
PRODID:icalendar-ruby
CALSCALE:GREGORIAN
METHOD:PUBLISH
BEGIN:VEVENT
DTSTAMP:20260423T180513Z
UID:8-1310729@lwci.church
DTSTART:20260915T220000Z
DTEND:20260915T230000Z
CLASS:PUBLIC
CREATED:20260423T114035
DESCRIPTION:Power in the Word
LAST-MODIFIED:20260423T114035
LOCATION:
SUMMARY:Power in the Word
URL;VALUE=URI:https://www.lwci.church/events/power-in-the-word/2026-09-15
ATTACH;FILENAME=pitw.png;FMTTYPE=image/png:https://dq5pwpg1q8ru0.cloudfront
 .net/2025/09/10/23/52/18/3f55e1d3-d542-4a13-bef2-0667a30f37b3/pitw.png
END:VEVENT
END:VCALENDAR
